OziExplorer Map Data File Version 2.2
EstebanFelipe_Planta.png
D:/2_Datos/0_Zonas/Guara/05_Topos/EstebanFelipe/3_Therion/00_OUTPUT/EstebanFelipe_Planta.png
1 ,Map Code,
WGS 84,, 0.0000, 0.0000,WGS 84
Reserved 1
Reserved 2
Magnetic Variation,,,E
Map Projection,Mercator,PolyCal,No,AutoCalOnly,No,BSBUseWPX,No
